BEGIN:VCALENDAR
VERSION:2.0
PRODID:-//CEA - ECPv6.3.1//NONSGML v1.0//EN
CALSCALE:GREGORIAN
METHOD:PUBLISH
X-WR-CALNAME:CEA
X-ORIGINAL-URL:https://coloradoea.org
X-WR-CALDESC:Events for CEA
REFRESH-INTERVAL;VALUE=DURATION:PT1H
X-Robots-Tag:noindex
X-PUBLISHED-TTL:PT1H
BEGIN:VTIMEZONE
TZID:America/Denver
BEGIN:DAYLIGHT
TZOFFSETFROM:-0700
TZOFFSETTO:-0600
TZNAME:MDT
DTSTART:20240310T090000
END:DAYLIGHT
BEGIN:STANDARD
TZOFFSETFROM:-0600
TZOFFSETTO:-0700
TZNAME:MST
DTSTART:20241103T080000
END:STANDARD
END:VTIMEZONE
BEGIN:VEVENT
DTSTART;VALUE=DATE:20240226
DTEND;VALUE=DATE:20240302
DTSTAMP:20240227T171128
CREATED:20240221T204220Z
LAST-MODIFIED:20240222T013358Z
UID:10000110-1708905600-1709337599@coloradoea.org
SUMMARY:Public Schools Week 2024
DESCRIPTION:Public Schools Week is a designated week for administrators\, teachers\, specialists\, teacher educators\, parents and school board members to host events for their communities and reach out to lawmakers\, businesses\, and other community members to discuss the importance of public education. Public Schools Week brings together Learning First Alliance members\, educators\, parents\, business and community leaders\, and many others across the country to show the strength—and potential—of our nation’s public schools and our students’ futures. \nPublic Schools Week is now part of a larger campaign—#HerefortheKids. The #HerefortheKids campaign brings together families\, educators\, and community members to shine a light on local public schools and tell the stories of the amazingly positive things happening in classrooms and school buildings nationwide. \nClick here to learn more.
URL:https://coloradoea.org/event/public-schools-week-2024/
CATEGORIES:Awareness,Celebration
ATTACH;FMTTYPE=image/png:https://coloradoea.org/wp-content/uploads/2024/02/PSW23-Button.png
END:VEVENT
BEGIN:VEVENT
DTSTART;VALUE=DATE:20240301
DTEND;VALUE=DATE:20240401
DTSTAMP:20240227T171128
CREATED:20240221T222110Z
LAST-MODIFIED:20240222T013408Z
UID:10000112-1709251200-1711929599@coloradoea.org
SUMMARY:Womens History Month
DESCRIPTION:Women’s History Month had its origins as a national celebration in 1981 when Congress passed Pub. L. 97-28 which authorized and requested the President to proclaim the week beginning March 7\, 1982 as “Women’s History Week.” Throughout the next five years\, Congress continued to pass joint resolutions designating a week in March as “Women’s History Week.” In 1987 after being petitioned by the National Women’s History Project\, Congress passed Pub. L. 100-9 which designated the month of March 1987 as “Women’s History Month.” Between 1988 and 1994\, Congress passed additional resolutions requesting and authorizing the President to proclaim March of each year as Women’s History Month. Since 1995\, presidents have issued a series of annual proclamations designating the month of March as “Women’s History Month.” These proclamations celebrate the contributions women have made to the United States and recognize the specific achievements women have made over the course of American history in a variety of fields.
URL:https://coloradoea.org/event/womens-history-month-2/
CATEGORIES:Awareness,Celebration
END:VEVENT
BEGIN:VEVENT
DTSTART;VALUE=DATE:20240301
DTEND;VALUE=DATE:20240401
DTSTAMP:20240227T171128
CREATED:20240221T234412Z
LAST-MODIFIED:20240221T234413Z
UID:10000116-1709251200-1711929599@coloradoea.org
SUMMARY:NEA Read Across America: Celebrate Diversity
DESCRIPTION:Launched in 1998 by the National Education Association (NEA) and guided by a committee of educators\, NEA’s Read Across America is the nation’s largest celebration of reading. This year-round program focuses on motivating children and teens to read through events\, partnerships\, and reading resources that are about everyone\, for everyone. The titles and resources featured by NEA’s Read Across America include books that students can see themselves reflected in\, as well as books that allow readers to see a world or a character that might be different than them. Readers who feel included\, recognized\, and a part of the world are engaged readers. We hope that you’ll be able to share these recommended titles—and many others—to celebrate Read Across America in March and throughout the year. \nBooks of the month: \nElementary – A Crown for Corina by Laekan Zea Kemp\nMiddle Grade – You Are Here: Connecting Flights by Ellen Oh\nYoung Adult – Invisible Son by Kim Johnson\n\nFor more information\, visit NEA’s website.\n 
URL:https://coloradoea.org/event/nea-read-across-america-celebrate-diversity-2/
CATEGORIES:Awareness
ATTACH;FMTTYPE=image/png:https://coloradoea.org/wp-content/uploads/2024/02/Screenshot-2024-02-21-at-3.43.09-PM.png
END:VEVENT
BEGIN:VEVENT
DTSTART;TZID=America/Denver:20240301T080000
DTEND;TZID=America/Denver:20240301T170000
DTSTAMP:20240227T171128
CREATED:20240222T000311Z
LAST-MODIFIED:20240222T000311Z
UID:10000118-1709280000-1709312400@coloradoea.org
SUMMARY:Maintenance Workers Appreciation Day
DESCRIPTION:
URL:https://coloradoea.org/event/maintenance-workers-appreciation-day/
CATEGORIES:Awareness
END:VEVENT
BEGIN:VEVENT
DTSTART;TZID=America/Denver:20240303T080000
DTEND;TZID=America/Denver:20240309T170000
DTSTAMP:20240227T171128
CREATED:20240221T224154Z
LAST-MODIFIED:20240221T224154Z
UID:10000115-1709452800-1710003600@coloradoea.org
SUMMARY:National School Social Work Week
DESCRIPTION:The School Social Work Association of America is proud to promote National School Social Work Week\, held the first full calendar week of March (Sunday – Saturday).  SSWAA collects and shares resources to help you celebrate and promote School Social Work Week. We hope you will make some great plans to celebrate as well as receive much-deserved recognition for the vital role that you provide to students\, administrators\, teachers\, educators\, parents\, and the community! \n​For more information\, visit the School Social Work Association website.
URL:https://coloradoea.org/event/national-school-social-work-week/
CATEGORIES:Awareness
ATTACH;FMTTYPE=image/jpeg:https://coloradoea.org/wp-content/uploads/2024/02/6.jpg
END:VEVENT
BEGIN:VEVENT
DTSTART;TZID=America/Denver:20240304T080000
DTEND;TZID=America/Denver:20240308T170000
DTSTAMP:20240227T171128
CREATED:20240221T235110Z
LAST-MODIFIED:20240221T235110Z
UID:10000117-1709539200-1709917200@coloradoea.org
SUMMARY:National School Breakfast Week
DESCRIPTION:National School Breakfast Week (NSBW) celebrates the importance of a nutritious school breakfast in fueling students for success. This special observance during the first week of March celebrates the national School Breakfast Program and the many ways it gives kids a great start every day. \nFor more information\, visit the School Nutrition Association website.
URL:https://coloradoea.org/event/national-school-breakfast-week/
CATEGORIES:Awareness
ATTACH;FMTTYPE=image/jpeg:https://coloradoea.org/wp-content/uploads/2024/02/NSBW24-logo5.jpg
END:VEVENT
BEGIN:VEVENT
DTSTART;TZID=America/Denver:20240308T080000
DTEND;TZID=America/Denver:20240308T170000
DTSTAMP:20240227T171128
CREATED:20240222T000743Z
LAST-MODIFIED:20240222T000743Z
UID:10000119-1709884800-1709917200@coloradoea.org
SUMMARY:International Social Emotional Learning Day
DESCRIPTION:SEL Day is a global\, grassroots campaign for social-emotional learning to support children’s academic recovery\, mental health\, and well-being. Since its inception in 2020\, #SELday has reached over 40 million views. In 2023\, over 4\,000 SEL champions representing all 50 U.S. states and 87 countries made 11\,000 commitments to showcase\, promote\, advocate\, and support SEL. Advocacy efforts have resulted in SEL Day proclamations in fifteen states\, a letter of support from the White House\, and a bipartisan resolution for SEL Week introduced in the Senate. \nFor more information\, visit the SEL Day website.
URL:https://coloradoea.org/event/international-social-emotional-learning-day/
CATEGORIES:Awareness
ATTACH;FMTTYPE=image/png:https://coloradoea.org/wp-content/uploads/2024/02/SEL-Day-logo.png
END:VEVENT
BEGIN:VEVENT
DTSTART;TZID=America/Denver:20240308T080000
DTEND;TZID=America/Denver:20240308T170000
DTSTAMP:20240227T171128
CREATED:20240222T001529Z
LAST-MODIFIED:20240222T001529Z
UID:10000120-1709884800-1709917200@coloradoea.org
SUMMARY:International Women's Day
DESCRIPTION:International Women’s Day is commemorated in a variety of ways worldwide; it is a public holiday in several countries and observed socially or locally in others to celebrate and promote the achievements of women. It is also a focal point in the women’s rights movement\, bringing attention to issues such as gender equality\, reproductive rights\, and violence and abuse against women. \nIt is a day of hope and reflection; and a celebration of gender parity in all walks of life. This day is to acknowledge women’s strength\, patience\, inner strength\, and courage. International Women’s Day encourages people to actively choose to “challenge stereotypes\, broaden perceptions\, fight bias\, improve situations and celebrate women’s achievements.” \n 
URL:https://coloradoea.org/event/international-womens-day/
CATEGORIES:Awareness
ATTACH;FMTTYPE=image/png:https://coloradoea.org/wp-content/uploads/2024/02/Screenshot-2024-02-21-at-17-09-23-International-Womens-Day.png
END:VEVENT
BEGIN:VEVENT
DTSTART;VALUE=DATE:20240331
DTEND;VALUE=DATE:20240401
DTSTAMP:20240227T171128
CREATED:20240226T215940Z
LAST-MODIFIED:20240226T215940Z
UID:10000127-1711843200-1711929599@coloradoea.org
SUMMARY:Transgender Day of Visibility
DESCRIPTION:Each year on March 31\, the world observes Transgender Day of Visibility (TDOV) to raise awareness about transgender people. It is a day to celebrate the lives and contributions of trans people\, while also drawing attention to the poverty\, discrimination\, and violence the community faces. \nInternational TDOV was created in 2010 by trans advocate Rachel Crandall. Crandall\, the head of Transgender Michigan\, created TDOV in response to the overwhelming majority of media stories about transgender people being focused on violence. She hoped to create a day where people could re-focus on celebrating the lives of transgender people\, empowering them to live authentically\, while still acknowledging that due to discrimination\, not every trans person can or wants to be visible. \nClick here for more information.
URL:https://coloradoea.org/event/transgender-day-of-visibility/
CATEGORIES:Awareness,Celebration
ATTACH;FMTTYPE=image/png:https://coloradoea.org/wp-content/uploads/2024/02/TDOV2021_1-2048x1076-1.png
END:VEVENT
END:VCALENDAR