BEGIN:VCALENDAR
VERSION:2.0
PRODID:-//CEA - ECPv6.3.1//NONSGML v1.0//EN
CALSCALE:GREGORIAN
METHOD:PUBLISH
X-WR-CALNAME:CEA
X-ORIGINAL-URL:https://coloradoea.org
X-WR-CALDESC:Events for CEA
REFRESH-INTERVAL;VALUE=DURATION:PT1H
X-Robots-Tag:noindex
X-PUBLISHED-TTL:PT1H
BEGIN:VTIMEZONE
TZID:America/Denver
BEGIN:DAYLIGHT
TZOFFSETFROM:-0700
TZOFFSETTO:-0600
TZNAME:MDT
DTSTART:20240310T090000
END:DAYLIGHT
BEGIN:STANDARD
TZOFFSETFROM:-0600
TZOFFSETTO:-0700
TZNAME:MST
DTSTART:20241103T080000
END:STANDARD
END:VTIMEZONE
BEGIN:VEVENT
DTSTART;TZID=America/Denver:20240607T080000
DTEND;TZID=America/Denver:20240608T170000
DTSTAMP:20240227T194006
CREATED:20230816T020136Z
LAST-MODIFIED:20240222T013530Z
UID:10000086-1717747200-1717866000@coloradoea.org
SUMMARY:CEA Summer Leadership Conference
DESCRIPTION:Our premier professional learning event of the year brings 200+ members together from across Colorado every June to build skills and share knowledge. Members make their own conference schedules and attend a wide variety of workshops offered by experienced trainers with unique professional perspectives. The conference also features a distinguished lineup of speakers who give powerful insights on the critical education issues of the day.
URL:https://coloradoea.org/event/cea-summer-leadership-conference/
CATEGORIES:CEA
END:VEVENT
END:VCALENDAR