BEGIN:VCALENDAR
VERSION:2.0
PRODID:-//CEA - ECPv6.3.1//NONSGML v1.0//EN
CALSCALE:GREGORIAN
METHOD:PUBLISH
X-WR-CALNAME:CEA
X-ORIGINAL-URL:https://coloradoea.org
X-WR-CALDESC:Events for CEA
REFRESH-INTERVAL;VALUE=DURATION:PT1H
X-Robots-Tag:noindex
X-PUBLISHED-TTL:PT1H
BEGIN:VTIMEZONE
TZID:America/Denver
BEGIN:DAYLIGHT
TZOFFSETFROM:-0700
TZOFFSETTO:-0600
TZNAME:MDT
DTSTART:20240310T090000
END:DAYLIGHT
BEGIN:STANDARD
TZOFFSETFROM:-0600
TZOFFSETTO:-0700
TZNAME:MST
DTSTART:20241103T080000
END:STANDARD
END:VTIMEZONE
BEGIN:VEVENT
DTSTART;TZID=America/Denver:20240229T123000
DTEND;TZID=America/Denver:20240229T133000
DTSTAMP:20240227T151237
CREATED:20240221T221752Z
LAST-MODIFIED:20240222T204536Z
UID:10000111-1709209800-1709213400@coloradoea.org
SUMMARY:CEA Fully Funded Rally
DESCRIPTION:CEA leaders\, members\, and staff\, in conjunction with the Governor\, Legislative Leadership\, and several legislators on the West steps of the Capitol in support of the introduction of the School Finance Act\, with a buy down to ZERO of the budget stabilization factor. \nClick here to learn more about CEA’s Fully Funded Campaign.
URL:https://coloradoea.org/event/cea-fully-funded-rally/
CATEGORIES:Advocacy,CEA
ATTACH;FMTTYPE=image/png:https://coloradoea.org/wp-content/uploads/2024/02/Fully-Funded-Era-Button-FLyer-1920-x-1080-px-1.png
END:VEVENT
END:VCALENDAR