BEGIN:VCALENDAR
VERSION:2.0
PRODID:-//CEA - ECPv6.3.1//NONSGML v1.0//EN
CALSCALE:GREGORIAN
METHOD:PUBLISH
X-WR-CALNAME:CEA
X-ORIGINAL-URL:https://coloradoea.org
X-WR-CALDESC:Events for CEA
REFRESH-INTERVAL;VALUE=DURATION:PT1H
X-Robots-Tag:noindex
X-PUBLISHED-TTL:PT1H
BEGIN:VTIMEZONE
TZID:America/Denver
BEGIN:DAYLIGHT
TZOFFSETFROM:-0700
TZOFFSETTO:-0600
TZNAME:MDT
DTSTART:20240310T090000
END:DAYLIGHT
BEGIN:STANDARD
TZOFFSETFROM:-0600
TZOFFSETTO:-0700
TZNAME:MST
DTSTART:20241103T080000
END:STANDARD
END:VTIMEZONE
BEGIN:VEVENT
DTSTART;TZID=America/Denver:20240315T080000
DTEND;TZID=America/Denver:20240317T170000
DTSTAMP:20240227T172150
CREATED:20230818T000214Z
LAST-MODIFIED:20240222T013621Z
UID:10000097-1710489600-1710694800@coloradoea.org
SUMMARY:NEA Higher Ed Conference
DESCRIPTION:At the annual NEA Higher Education Conference\, NEA members from colleges and universities around the nation get together to share ideas and learn from each other. \nThe Higher Education Conference offers members the opportunity to submit proposals and present workshops; network with colleagues from across the country; attend sessions on professional development\, organizing\, racial justice\, collective bargaining\, and others; hear from NEA’s top officers\, and participate in the National Council for Higher Education (NCHE) membership meeting. \nClick here to read about the 2023 NEA Higher Ed Conference.
URL:https://coloradoea.org/event/nea-higher-ed-conference/
CATEGORIES:NEA
END:VEVENT
BEGIN:VEVENT
DTSTART;TZID=America/Denver:20240322T080000
DTEND;TZID=America/Denver:20240324T170000
DTSTAMP:20240227T172150
CREATED:20230818T000433Z
LAST-MODIFIED:20240222T013614Z
UID:10000098-1711094400-1711299600@coloradoea.org
SUMMARY:NEA ESP Conference
DESCRIPTION:The purpose of the NEA ESP National conference to grow and strengthen the professional excellence of ESP members working in Pre-K to Higher-Ed through Association-convened\, educator-led\, and student-centered learning experiences. With multiple interactive workshops to choose from over the course of three days\, participants enhance their knowledge and skills to advocate for students and educators\, champion racial and social justice\, build community relationships\, strengthen and grow membership\, and sustain stronger local associations\, helping members excel in their careers and positively impact student success. \nClick here for registration information\, and to read more about past conferences.
URL:https://coloradoea.org/event/nea-esp-conference/
CATEGORIES:NEA
ATTACH;FMTTYPE=image/png:https://coloradoea.org/wp-content/uploads/2023/08/ESP-Conf-logo-2020-blue-trans-01_0.png
END:VEVENT
END:VCALENDAR