BEGIN:VCALENDAR
VERSION:2.0
PRODID:-//CEA - ECPv6.3.1//NONSGML v1.0//EN
CALSCALE:GREGORIAN
METHOD:PUBLISH
X-WR-CALNAME:CEA
X-ORIGINAL-URL:https://coloradoea.org
X-WR-CALDESC:Events for CEA
REFRESH-INTERVAL;VALUE=DURATION:PT1H
X-Robots-Tag:noindex
X-PUBLISHED-TTL:PT1H
BEGIN:VTIMEZONE
TZID:America/Denver
BEGIN:DAYLIGHT
TZOFFSETFROM:-0700
TZOFFSETTO:-0600
TZNAME:MDT
DTSTART:20230312T090000
END:DAYLIGHT
BEGIN:STANDARD
TZOFFSETFROM:-0600
TZOFFSETTO:-0700
TZNAME:MST
DTSTART:20231105T080000
END:STANDARD
BEGIN:DAYLIGHT
TZOFFSETFROM:-0700
TZOFFSETTO:-0600
TZNAME:MDT
DTSTART:20240310T090000
END:DAYLIGHT
BEGIN:STANDARD
TZOFFSETFROM:-0600
TZOFFSETTO:-0700
TZNAME:MST
DTSTART:20241103T080000
END:STANDARD
END:VTIMEZONE
BEGIN:VEVENT
DTSTART;TZID=America/Denver:20240223T080000
DTEND;TZID=America/Denver:20240224T170000
DTSTAMP:20240227T152133
CREATED:20230816T014145Z
LAST-MODIFIED:20240222T013322Z
UID:10000082-1708675200-1708794000@coloradoea.org
SUMMARY:CEA Board of Directors Meeting
DESCRIPTION:CEA’s Board of Directors are elected by majority vote by members of their UniServ or by majority vote by delegates at the Delegate Assembly through open nomination and secret ballot. They may serve up to three consecutive terms\, each term being two years. \n 
URL:https://coloradoea.org/event/cea-board-of-directors-meeting-4/
CATEGORIES:CEA
END:VEVENT
BEGIN:VEVENT
DTSTART;TZID=America/Denver:20240209T080000
DTEND;TZID=America/Denver:20240210T170000
DTSTAMP:20240227T152133
CREATED:20230817T234946Z
LAST-MODIFIED:20240222T013226Z
UID:10000091-1707465600-1707584400@coloradoea.org
SUMMARY:NEA Board of Directors Meeting
DESCRIPTION:As a top decision-making body\, our Board of Directors includes at least one director from each state affiliate\, as well as representatives from retired members\, aspiring educators\, at-large representatives of ethnic minorities\, administrators\, teachers in higher ed\, and active members employed in ESP positions.
URL:https://coloradoea.org/event/nea-board-of-directors-meeting-3/
CATEGORIES:NEA
END:VEVENT
BEGIN:VEVENT
DTSTART;VALUE=DATE:20240205
DTEND;VALUE=DATE:20240210
DTSTAMP:20240227T152133
CREATED:20240130T212930Z
LAST-MODIFIED:20240130T212931Z
UID:10000106-1707091200-1707523199@coloradoea.org
SUMMARY:Black Lives Matter At School Week
DESCRIPTION:Each year the Zinn Education Project hosts Teaching for Black Lives study groups across the United States. Using the Rethinking Schools book Teaching for Black Lives\, educators explore how to teach about racism\, resistance\, and joy in free\, teacher-led professional learning communities. \nVisit Black Lives Matter at School and NEA for more information and resources.
URL:https://coloradoea.org/event/black-lives-matter-at-school-week/
CATEGORIES:Awareness
ATTACH;FMTTYPE=image/png:https://coloradoea.org/wp-content/uploads/2024/01/blm-week-of-action.png
END:VEVENT
BEGIN:VEVENT
DTSTART;TZID=America/Denver:20240119T080000
DTEND;TZID=America/Denver:20240120T170000
DTSTAMP:20240227T152133
CREATED:20230816T014107Z
LAST-MODIFIED:20230816T014107Z
UID:10000081-1705651200-1705770000@coloradoea.org
SUMMARY:CEA Board of Directors Meeting
DESCRIPTION:CEA’s Board of Directors are elected by majority vote by members of their UniServ or by majority vote by delegates at the Delegate Assembly through open nomination and secret ballot. They may serve up to three consecutive terms\, each term being two years. \n 
URL:https://coloradoea.org/event/cea-board-of-directors-meeting-3/
END:VEVENT
BEGIN:VEVENT
DTSTART;TZID=America/Denver:20231211T080000
DTEND;TZID=America/Denver:20231211T170000
DTSTAMP:20240227T152133
CREATED:20230817T234656Z
LAST-MODIFIED:20230817T234656Z
UID:10000090-1702281600-1702314000@coloradoea.org
SUMMARY:NEA Board of Directors Meeting
DESCRIPTION:As a top decision-making body\, our Board of Directors includes at least one director from each state affiliate\, as well as representatives from retired members\, aspiring educators\, at-large representatives of ethnic minorities\, administrators\, teachers in higher ed\, and active members employed in ESP positions.
URL:https://coloradoea.org/event/nea-board-of-directors-meeting-2/
END:VEVENT
BEGIN:VEVENT
DTSTART;TZID=America/Denver:20231208T080000
DTEND;TZID=America/Denver:20231209T170000
DTSTAMP:20240227T152133
CREATED:20230817T233824Z
LAST-MODIFIED:20230817T234554Z
UID:10000088-1702022400-1702141200@coloradoea.org
SUMMARY:NEA MLT/WLT (West)
DESCRIPTION:Annually\, the NEA Center for Racial and Social Justice – Human and Civil Rights department hosts The Minority Leadership Training (MLT) and Women’s Leadership Training (WLT) Seminars – EAST and WEST.  The MLT/WLT Leadership Training Seminar is an in-person convening that aims to advance racial and social justice by preparing and supporting NEA members to be powerful leaders and advocates for their students\, communities\, profession\, and Association. The training has the following three objectives: \n\nTo teach participants foundational leadership skills;\nTo provide tools to understand the impact of racial inequities in education proactively; and\nTo provide strategies for coalition building around racial\, social\, and economic equity issues.\n\nFor more information about the seminars\, visit the training website.
URL:https://coloradoea.org/event/nea-mlt-wlt-west/
END:VEVENT
BEGIN:VEVENT
DTSTART;TZID=America/Denver:20231111T080000
DTEND;TZID=America/Denver:20231112T170000
DTSTAMP:20240227T152133
CREATED:20230816T021116Z
LAST-MODIFIED:20230816T021116Z
UID:10000087-1699689600-1699808400@coloradoea.org
SUMMARY:CEA Fall Bargaining and Organizing Conference
DESCRIPTION:
URL:https://coloradoea.org/event/cea-fall-bargaining-and-organizing-conference/
END:VEVENT
BEGIN:VEVENT
DTSTART;TZID=America/Denver:20231110T080000
DTEND;TZID=America/Denver:20231110T170000
DTSTAMP:20240227T152133
CREATED:20230816T014009Z
LAST-MODIFIED:20230816T014009Z
UID:10000080-1699603200-1699635600@coloradoea.org
SUMMARY:CEA Board of Directors Meeting
DESCRIPTION:CEA’s Board of Directors are elected by majority vote by members of their UniServ or by majority vote by delegates at the Delegate Assembly through open nomination and secret ballot. They may serve up to three consecutive terms\, each term being two years. \n 
URL:https://coloradoea.org/event/cea-board-of-directors-meeting-2/
END:VEVENT
BEGIN:VEVENT
DTSTART;TZID=America/Denver:20231016T153000
DTEND;TZID=America/Denver:20231016T183000
DTSTAMP:20240227T152133
CREATED:20231014T161405Z
LAST-MODIFIED:20231014T162546Z
UID:10000104-1697470200-1697481000@coloradoea.org
SUMMARY:Solidarity Action: UAW ON STRIKE
DESCRIPTION:Join us to show our solidarity with the ongoing UAW strike. Wear your favorite CEA shirt\, union button\, or local swag so auto workers know that educators in Colorado have their backs!\n\n\nChrysler Mopar Parts Distribution Center\nMonday\, October 16th\n3:30PM-6:30PM\n12225 E 39th Ave\nDenver\, CO 80239\n\n\n 
URL:https://coloradoea.org/event/uaw-on-strike/
LOCATION:Chrysler Mopar Parts Distribution Center\, 12225 E 39th Ave \, Denver\, United States
ATTACH;FMTTYPE=image/jpeg:https://coloradoea.org/wp-content/uploads/2023/10/380687469_826376712315250_7061813277156069126_n.jpg
END:VEVENT
BEGIN:VEVENT
DTSTART;TZID=America/Denver:20231006T080000
DTEND;TZID=America/Denver:20231006T170000
DTSTAMP:20240227T152133
CREATED:20231006T222143Z
LAST-MODIFIED:20231006T222143Z
UID:10000103-1696579200-1696611600@coloradoea.org
SUMMARY:Indigenous People's Day
DESCRIPTION:In honor of Indigenous People’s Day\, here are resources to help you educate students honestly and accurately about Native history and the people whose land we occupy. \nhttps://www.nea.org/professional-excellence/student-engagement/tools-tips/resources-teaching-about-indigenous-peoples \n  \n 
URL:https://coloradoea.org/event/indigenous-peoples-day/
ATTACH;FMTTYPE=image/jpeg:https://coloradoea.org/wp-content/uploads/2023/10/2022-totem-pole.jpg
END:VEVENT
BEGIN:VEVENT
DTSTART;VALUE=DATE:20231001
DTEND;VALUE=DATE:20231108
DTSTAMP:20240227T152134
CREATED:20230926T154435Z
LAST-MODIFIED:20230926T213310Z
UID:10000102-1696118400-1699401599@coloradoea.org
SUMMARY:Banned Books Week
DESCRIPTION:Banned Books Week: October 1-7\, 2023\nBooks are a powerful tool for understanding our similarities and our differences and learning our shared stories of confronting injustice. All students deserve the freedom to read stories as diverse and complex as the society we live in. \nYet\, some politicians hope that by censoring diverse ideas\, stories\, and people\, they can keep us divided and distracted from their failures to give our students everything they need to thrive. \nWhen politicians ban books\, they take away some students’ ability to see themselves and they hurt all students’ freedom to imagine a better future. Consider that of the 1\,600 books banned in the 2022-23 school year: \n\n37% feature characters of color or themes of race and racism\n36% feature LGBTQ+ characters or themes\n34% include topics on health and wellbeing for students\n\nJoin educators across the country in our effort to ensure that all students need look no further than the shelves of their own school and classroom libraries to find books that reflect and honor their experiences or that offer insight into someone else’s world. \nParticipate in this year’s Banned Books Week by:\n\nText BANNED to 48744 to get book recommendations\nHonor your favorite banned book or diverse story with a personalized bookmark: https://educationvotes.nea.org/bannedbooks/ \nPledge to support free and open access to books for everyone at www.nea.org/FreedomToRead\n\nOther actions you can take:\n\nRead Diverse Books! \nTake NEA’s Read Across America Diverse Book Challenge and create opportunities in your community for parents and students to understand and support the value of diverse books for all.\nBe a Voice for the Freedom to Read!\nLearn how to talk about censorship\, raise community awareness\, and enlist the support of others to put an end to book bans and safeguard democratic freedoms.Make a plan to print multiple bookmarks with messages that show your opposition to banning books and your commitment to great public education that includes books that reflect and celebrate all students’ identities\, experiences\, and cultures.
URL:https://coloradoea.org/event/banned-books-week/
ATTACH;FMTTYPE=image/png:https://coloradoea.org/wp-content/uploads/2023/09/BannedBooksWeek2023.png
END:VEVENT
BEGIN:VEVENT
DTSTART;TZID=America/Denver:20230930T080000
DTEND;TZID=America/Denver:20230930T150000
DTSTAMP:20240227T152134
CREATED:20230816T015112Z
LAST-MODIFIED:20230816T015112Z
UID:10000084-1696060800-1696086000@coloradoea.org
SUMMARY:Fall CEA All Leader Summit
DESCRIPTION:This event will bring together the CEA Board of Directors\, Local Presidents\, Unit Chairs\, the CEA Fund\, and CEA Staff to learn\, unify\, and better understand our roles as leaders and our shared work for the year ahead. The day will include various learning sessions to enhance leadership skills\, share updates and information and unify and grow Stronger Together.
URL:https://coloradoea.org/event/fall-cea-all-leader-summit/
END:VEVENT
BEGIN:VEVENT
DTSTART;TZID=America/Denver:20230929T080000
DTEND;TZID=America/Denver:20230929T170000
DTSTAMP:20240227T152134
CREATED:20230816T013832Z
LAST-MODIFIED:20230816T013832Z
UID:10000079-1695974400-1696006800@coloradoea.org
SUMMARY:CEA Board of Directors Meeting
DESCRIPTION:CEA’s Board of Directors are elected by majority vote by members of their UniServ or by majority vote by delegates at the Delegate Assembly through open nomination and secret ballot. They may serve up to three consecutive terms\, each term being two years. \n 
URL:https://coloradoea.org/event/cea-board-of-directors-meeting/
END:VEVENT
BEGIN:VEVENT
DTSTART;TZID=America/Denver:20230922T080000
DTEND;TZID=America/Denver:20230923T170000
DTSTAMP:20240227T152134
CREATED:20230817T234311Z
LAST-MODIFIED:20230817T234311Z
UID:10000089-1695369600-1695488400@coloradoea.org
SUMMARY:NEA Board of Directors Meeting
DESCRIPTION:As a top decision-making body\, our Board of Directors includes at least one director from each state affiliate\, as well as representatives from retired members\, aspiring educators\, at-large representatives of ethnic minorities\, administrators\, teachers in higher ed\, and active members employed in ESP positions.
URL:https://coloradoea.org/event/nea-board-of-directors-meeting/
END:VEVENT
BEGIN:VEVENT
DTSTART;VALUE=DATE:20230901
DTEND;VALUE=DATE:20231001
DTSTAMP:20240227T152134
CREATED:20230822T173101Z
LAST-MODIFIED:20230822T173308Z
UID:10000101-1693526400-1696118399@coloradoea.org
SUMMARY:NEA Read Across America September 2023: Tackle Changes Together
DESCRIPTION:Launched in 1998 by NEA and guided by a committee of educators\, NEA’s Read Across America is the nation’s largest celebration of reading. This year-round program focuses on motivating children and teens to read through events\, partnerships\, and reading resources that are about everyone\, for everyone. \nThe titles and resources featured by NEA’s Read Across America include books that students can see themselves reflected in\, as well as books that allow readers to see a world or a character that might be different than them. \nThe Read Across America theme for September 2023 is “Tackle Changes Together.” Visit nea.org for more information about book recommendations and resources.
URL:https://coloradoea.org/event/nea-read-across-america-september-2023-tackle-changes-together/
ATTACH;FMTTYPE=image/png:https://coloradoea.org/wp-content/uploads/2023/08/read-across-america.png
END:VEVENT
BEGIN:VEVENT
DTSTART;VALUE=DATE:20230826
DTEND;VALUE=DATE:20230827
DTSTAMP:20240227T152134
CREATED:20230815T195747Z
LAST-MODIFIED:20230815T195747Z
UID:10000078-1693008000-1693094399@coloradoea.org
SUMMARY:Womens Equality Day
DESCRIPTION:Women’s Equality Day falls on August 26\, the day in 1920 when women gained voting rights under the 19th Amendment. Former U.S. Congressmember Bella S. Abzug authored the resolution in 1973 that declared the holiday. \nCheck out NEA’s toolkit on Gender Empowerment to read about the importance of supporting and protecting and ensuring opportunity for girls and women\, take action\, and get involved with the movement.
URL:https://coloradoea.org/event/womens-equality-day/
CATEGORIES:Awareness
END:VEVENT
BEGIN:VEVENT
DTSTART;VALUE=DATE:20230508
DTEND;VALUE=DATE:20230513
DTSTAMP:20240227T152134
CREATED:20230508T182929Z
LAST-MODIFIED:20230508T182929Z
UID:10000077-1683504000-1683935999@coloradoea.org
SUMMARY:Teacher Appreciation Week
DESCRIPTION:This Teacher Appreciation Week\, we’re saying “more.” More than appreciation\, teachers need us to take action. More than a week\, teachers need our support all year long. Because today’s teachers are more than teachers for our students. No matter their ZIP code or the color of their skin\, teachers are creating lesson plans while they create a sense of safety and belonging for their students. They are getting up early to make it work and they are staying up late with worry. Teachers are working with parents and caregivers while working without enough resources. They are champions for their students and too often they are counselors to their students. They are more than teachers\, and they deserve so much more than what we’re giving them. So\, let’s join together to tell the teachers we know that we will listen to them\, we will stand with them\, and together we will fix these problems so every teacher feels respected\, supported\, and more than taken for granted. \nParticipate and Take Action: \n\nPledge to support the change educators really need! Everyone can have a hand in bringing meaningful change to our schools and for our educators. Educators\, families\, and allies of education can all pledge to take action and provide support for Colorado’s educators here: https://coloea.org/ThankATeacher\nNEA wants to know what educators really need to feel truly supported\, seen\, and appreciated. Whether it’s more respect\, better safety measures\, higher pay\, or better partnerships with communities…we want to hear it. Text PRIORITIES to 48744 to share what really matters to you. \nWant to give a special shout out to an educator who inspires you? Grab a piece of paper\, write down why you appreciation teachers\, and share by participating in our Virtual Photo Booth! Share it on your Instagram Story\, tag @colorado_ea and @NEAToday\, and you might see them featured on our accounts! Don’t have Instagram\, don’t you worry we’d love to see appreciation far and wide across all platforms shared throughout the week. https://coloea.org/TAWphotobooth\n\n 
URL:https://coloradoea.org/event/teacher-appreciation-week/
ATTACH;FMTTYPE=image/jpeg:https://coloradoea.org/wp-content/uploads/2023/05/CEA-Teacher-Appreciation-Week-Graphics-2023-1600×900.jpg
END:VEVENT
BEGIN:VEVENT
DTSTART;TZID=America/Denver:20230427T080000
DTEND;TZID=America/Denver:20230427T150000
DTSTAMP:20240227T152134
CREATED:20230127T212854Z
LAST-MODIFIED:20230130T210934Z
UID:10000021-1682582400-1682607600@coloradoea.org
SUMMARY:CEA Lobby Day
DESCRIPTION:Lobby Day provides a critical opportunity for our members to share our experiences with our elected officials and to advocate for what our fellow educators\, our professions\, and our students need.\nNo one knows our classrooms\, libraries\, cafeterias\, hallways\, and schools better than us–the educators. Reach out to your local president for information about when your local association will be attending.
URL:https://coloradoea.org/event/cea-lobby-day-2/2023-04-27/
LOCATION:CEA Offices\, 1500 Grant St\, Denver\, CO\, 80203
CATEGORIES:Advocacy
ATTACH;FMTTYPE=image/jpeg:https://coloradoea.org/wp-content/uploads/2022/05/2022-Leg-Session-Wrap-Up-Blog-Image.jpg
END:VEVENT
BEGIN:VEVENT
DTSTART;VALUE=DATE:20230426
DTEND;VALUE=DATE:20230427
DTSTAMP:20240227T152134
CREATED:20230426T191017Z
LAST-MODIFIED:20230426T191017Z
UID:10000076-1682467200-1682553599@coloradoea.org
SUMMARY:Administrative Professionals Day
DESCRIPTION:Today we recognizes all of the office professionals who keep our public schools running smoothly every day.
URL:https://coloradoea.org/event/administrative-professionals-day/
CATEGORIES:Awareness
END:VEVENT
BEGIN:VEVENT
DTSTART;TZID=America/Denver:20230420T080000
DTEND;TZID=America/Denver:20230420T150000
DTSTAMP:20240227T152134
CREATED:20230127T212854Z
LAST-MODIFIED:20230130T210934Z
UID:10000020-1681977600-1682002800@coloradoea.org
SUMMARY:CEA Lobby Day
DESCRIPTION:Lobby Day provides a critical opportunity for our members to share our experiences with our elected officials and to advocate for what our fellow educators\, our professions\, and our students need.\nNo one knows our classrooms\, libraries\, cafeterias\, hallways\, and schools better than us–the educators. Reach out to your local president for information about when your local association will be attending.
URL:https://coloradoea.org/event/cea-lobby-day-2/2023-04-20/
LOCATION:CEA Offices\, 1500 Grant St\, Denver\, CO\, 80203
CATEGORIES:Advocacy
ATTACH;FMTTYPE=image/jpeg:https://coloradoea.org/wp-content/uploads/2022/05/2022-Leg-Session-Wrap-Up-Blog-Image.jpg
END:VEVENT
BEGIN:VEVENT
DTSTART;TZID=America/Denver:20230413T080000
DTEND;TZID=America/Denver:20230413T150000
DTSTAMP:20240227T152134
CREATED:20230127T212854Z
LAST-MODIFIED:20230130T210934Z
UID:10000019-1681372800-1681398000@coloradoea.org
SUMMARY:CEA Lobby Day
DESCRIPTION:Lobby Day provides a critical opportunity for our members to share our experiences with our elected officials and to advocate for what our fellow educators\, our professions\, and our students need.\nNo one knows our classrooms\, libraries\, cafeterias\, hallways\, and schools better than us–the educators. Reach out to your local president for information about when your local association will be attending.
URL:https://coloradoea.org/event/cea-lobby-day-2/2023-04-13/
LOCATION:CEA Offices\, 1500 Grant St\, Denver\, CO\, 80203
CATEGORIES:Advocacy
ATTACH;FMTTYPE=image/jpeg:https://coloradoea.org/wp-content/uploads/2022/05/2022-Leg-Session-Wrap-Up-Blog-Image.jpg
END:VEVENT
BEGIN:VEVENT
DTSTART;TZID=America/Denver:20230406T080000
DTEND;TZID=America/Denver:20230406T150000
DTSTAMP:20240227T152134
CREATED:20230127T212854Z
LAST-MODIFIED:20230130T210934Z
UID:10000018-1680768000-1680793200@coloradoea.org
SUMMARY:CEA Lobby Day
DESCRIPTION:Lobby Day provides a critical opportunity for our members to share our experiences with our elected officials and to advocate for what our fellow educators\, our professions\, and our students need.\nNo one knows our classrooms\, libraries\, cafeterias\, hallways\, and schools better than us–the educators. Reach out to your local president for information about when your local association will be attending.
URL:https://coloradoea.org/event/cea-lobby-day-2/2023-04-06/
LOCATION:CEA Offices\, 1500 Grant St\, Denver\, CO\, 80203
CATEGORIES:Advocacy
ATTACH;FMTTYPE=image/jpeg:https://coloradoea.org/wp-content/uploads/2022/05/2022-Leg-Session-Wrap-Up-Blog-Image.jpg
END:VEVENT
BEGIN:VEVENT
DTSTART;TZID=America/Denver:20230330T080000
DTEND;TZID=America/Denver:20230330T150000
DTSTAMP:20240227T152134
CREATED:20230127T212854Z
LAST-MODIFIED:20230130T210934Z
UID:10000017-1680163200-1680188400@coloradoea.org
SUMMARY:CEA Lobby Day
DESCRIPTION:Lobby Day provides a critical opportunity for our members to share our experiences with our elected officials and to advocate for what our fellow educators\, our professions\, and our students need.\nNo one knows our classrooms\, libraries\, cafeterias\, hallways\, and schools better than us–the educators. Reach out to your local president for information about when your local association will be attending.
URL:https://coloradoea.org/event/cea-lobby-day-2/2023-03-30/
LOCATION:CEA Offices\, 1500 Grant St\, Denver\, CO\, 80203
CATEGORIES:Advocacy
ATTACH;FMTTYPE=image/jpeg:https://coloradoea.org/wp-content/uploads/2022/05/2022-Leg-Session-Wrap-Up-Blog-Image.jpg
END:VEVENT
BEGIN:VEVENT
DTSTART;TZID=America/Denver:20230323T080000
DTEND;TZID=America/Denver:20230323T150000
DTSTAMP:20240227T152134
CREATED:20230127T212854Z
LAST-MODIFIED:20230130T210934Z
UID:10000016-1679558400-1679583600@coloradoea.org
SUMMARY:CEA Lobby Day
DESCRIPTION:Lobby Day provides a critical opportunity for our members to share our experiences with our elected officials and to advocate for what our fellow educators\, our professions\, and our students need.\nNo one knows our classrooms\, libraries\, cafeterias\, hallways\, and schools better than us–the educators. Reach out to your local president for information about when your local association will be attending.
URL:https://coloradoea.org/event/cea-lobby-day-2/2023-03-23/
LOCATION:CEA Offices\, 1500 Grant St\, Denver\, CO\, 80203
CATEGORIES:Advocacy
ATTACH;FMTTYPE=image/jpeg:https://coloradoea.org/wp-content/uploads/2022/05/2022-Leg-Session-Wrap-Up-Blog-Image.jpg
END:VEVENT
BEGIN:VEVENT
DTSTART;TZID=America/Denver:20230316T080000
DTEND;TZID=America/Denver:20230316T150000
DTSTAMP:20240227T152134
CREATED:20230127T212854Z
LAST-MODIFIED:20230130T210934Z
UID:10000015-1678953600-1678978800@coloradoea.org
SUMMARY:CEA Lobby Day
DESCRIPTION:Lobby Day provides a critical opportunity for our members to share our experiences with our elected officials and to advocate for what our fellow educators\, our professions\, and our students need.\nNo one knows our classrooms\, libraries\, cafeterias\, hallways\, and schools better than us–the educators. Reach out to your local president for information about when your local association will be attending.
URL:https://coloradoea.org/event/cea-lobby-day-2/2023-03-16/
LOCATION:CEA Offices\, 1500 Grant St\, Denver\, CO\, 80203
CATEGORIES:Advocacy
ATTACH;FMTTYPE=image/jpeg:https://coloradoea.org/wp-content/uploads/2022/05/2022-Leg-Session-Wrap-Up-Blog-Image.jpg
END:VEVENT
BEGIN:VEVENT
DTSTART;TZID=America/Denver:20230309T080000
DTEND;TZID=America/Denver:20230309T150000
DTSTAMP:20240227T152134
CREATED:20230127T212854Z
LAST-MODIFIED:20230130T210934Z
UID:10000014-1678348800-1678374000@coloradoea.org
SUMMARY:CEA Lobby Day
DESCRIPTION:Lobby Day provides a critical opportunity for our members to share our experiences with our elected officials and to advocate for what our fellow educators\, our professions\, and our students need.\nNo one knows our classrooms\, libraries\, cafeterias\, hallways\, and schools better than us–the educators. Reach out to your local president for information about when your local association will be attending.
URL:https://coloradoea.org/event/cea-lobby-day-2/2023-03-09/
LOCATION:CEA Offices\, 1500 Grant St\, Denver\, CO\, 80203
CATEGORIES:Advocacy
ATTACH;FMTTYPE=image/jpeg:https://coloradoea.org/wp-content/uploads/2022/05/2022-Leg-Session-Wrap-Up-Blog-Image.jpg
END:VEVENT
BEGIN:VEVENT
DTSTART;TZID=America/Denver:20230304T090000
DTEND;TZID=America/Denver:20230304T170000
DTSTAMP:20240227T152134
CREATED:20230127T220231Z
LAST-MODIFIED:20230131T225550Z
UID:10000009-1677920400-1677949200@coloradoea.org
SUMMARY:Colorado Education Recruitment Fair
DESCRIPTION:Colorado’s only statewide teacher and special service provider recruitment fair designed to get candidates face-to-face with school districts throughout the state. \nRegister online at https://www.co-case.org/event/2023CERF \nSee Flyer for more information.  \n  \n 
URL:https://coloradoea.org/event/colorado-education-recruitment-fair/
LOCATION:DCSD Legacy Campus\, 10035 S. Peoria St.\, Lone Tree\, CO\, 80134\, United States
ATTACH;FMTTYPE=image/png:https://coloradoea.org/wp-content/uploads/2023/01/Black-History-Month-Full-of-Fist-Presentation-169-1.png
END:VEVENT
BEGIN:VEVENT
DTSTART;TZID=America/Denver:20230302T080000
DTEND;TZID=America/Denver:20230302T150000
DTSTAMP:20240227T152134
CREATED:20230127T212854Z
LAST-MODIFIED:20230130T210934Z
UID:10000013-1677744000-1677769200@coloradoea.org
SUMMARY:CEA Lobby Day
DESCRIPTION:Lobby Day provides a critical opportunity for our members to share our experiences with our elected officials and to advocate for what our fellow educators\, our professions\, and our students need.\nNo one knows our classrooms\, libraries\, cafeterias\, hallways\, and schools better than us–the educators. Reach out to your local president for information about when your local association will be attending.
URL:https://coloradoea.org/event/cea-lobby-day-2/2023-03-02/
LOCATION:CEA Offices\, 1500 Grant St\, Denver\, CO\, 80203
CATEGORIES:Advocacy
ATTACH;FMTTYPE=image/jpeg:https://coloradoea.org/wp-content/uploads/2022/05/2022-Leg-Session-Wrap-Up-Blog-Image.jpg
END:VEVENT
BEGIN:VEVENT
DTSTART;VALUE=DATE:20230301
DTEND;VALUE=DATE:20230401
DTSTAMP:20240227T152134
CREATED:20230301T214241Z
LAST-MODIFIED:20230301T214557Z
UID:10000075-1677628800-1680307199@coloradoea.org
SUMMARY:Women's History Month
DESCRIPTION:Teach about the challenges and accomplishments of women throughout history with these lessons\, activities\, background reading\, and more. Click here for resources for the classroom.
URL:https://coloradoea.org/event/womens-history-month/
ATTACH;FMTTYPE=image/png:https://coloradoea.org/wp-content/uploads/2023/03/Holiday-Posts-Presentation-169.png
END:VEVENT
BEGIN:VEVENT
DTSTART;TZID=America/Denver:20230223T080000
DTEND;TZID=America/Denver:20230223T150000
DTSTAMP:20240227T152134
CREATED:20230127T212854Z
LAST-MODIFIED:20230130T210934Z
UID:10000012-1677139200-1677164400@coloradoea.org
SUMMARY:CEA Lobby Day
DESCRIPTION:Lobby Day provides a critical opportunity for our members to share our experiences with our elected officials and to advocate for what our fellow educators\, our professions\, and our students need.\nNo one knows our classrooms\, libraries\, cafeterias\, hallways\, and schools better than us–the educators. Reach out to your local president for information about when your local association will be attending.
URL:https://coloradoea.org/event/cea-lobby-day-2/2023-02-23/
LOCATION:CEA Offices\, 1500 Grant St\, Denver\, CO\, 80203
CATEGORIES:Advocacy
ATTACH;FMTTYPE=image/jpeg:https://coloradoea.org/wp-content/uploads/2022/05/2022-Leg-Session-Wrap-Up-Blog-Image.jpg
END:VEVENT
END:VCALENDAR