BEGIN:VCALENDAR
VERSION:2.0
PRODID:-//CEA - ECPv6.3.1//NONSGML v1.0//EN
CALSCALE:GREGORIAN
METHOD:PUBLISH
X-ORIGINAL-URL:https://coloradoea.org
X-WR-CALDESC:Events for CEA
REFRESH-INTERVAL;VALUE=DURATION:PT1H
X-Robots-Tag:noindex
X-PUBLISHED-TTL:PT1H
BEGIN:VTIMEZONE
TZID:America/Denver
BEGIN:DAYLIGHT
TZOFFSETFROM:-0700
TZOFFSETTO:-0600
TZNAME:MDT
DTSTART:20230312T090000
END:DAYLIGHT
BEGIN:STANDARD
TZOFFSETFROM:-0600
TZOFFSETTO:-0700
TZNAME:MST
DTSTART:20231105T080000
END:STANDARD
END:VTIMEZONE
BEGIN:VEVENT
DTSTART;VALUE=DATE:20230901
DTEND;VALUE=DATE:20231001
DTSTAMP:20240227T193435
CREATED:20230822T173101Z
LAST-MODIFIED:20230822T173308Z
UID:10000101-1693526400-1696118399@coloradoea.org
SUMMARY:NEA Read Across America September 2023: Tackle Changes Together
DESCRIPTION:Launched in 1998 by NEA and guided by a committee of educators\, NEA’s Read Across America is the nation’s largest celebration of reading. This year-round program focuses on motivating children and teens to read through events\, partnerships\, and reading resources that are about everyone\, for everyone. \nThe titles and resources featured by NEA’s Read Across America include books that students can see themselves reflected in\, as well as books that allow readers to see a world or a character that might be different than them. \nThe Read Across America theme for September 2023 is “Tackle Changes Together.” Visit nea.org for more information about book recommendations and resources.
URL:https://coloradoea.org/event/nea-read-across-america-september-2023-tackle-changes-together/
ATTACH;FMTTYPE=image/png:https://coloradoea.org/wp-content/uploads/2023/08/read-across-america.png
END:VEVENT
BEGIN:VEVENT
DTSTART;TZID=America/Denver:20230922T080000
DTEND;TZID=America/Denver:20230923T170000
DTSTAMP:20240227T193435
CREATED:20230817T234311Z
LAST-MODIFIED:20230817T234311Z
UID:10000089-1695369600-1695488400@coloradoea.org
SUMMARY:NEA Board of Directors Meeting
DESCRIPTION:As a top decision-making body\, our Board of Directors includes at least one director from each state affiliate\, as well as representatives from retired members\, aspiring educators\, at-large representatives of ethnic minorities\, administrators\, teachers in higher ed\, and active members employed in ESP positions.
URL:https://coloradoea.org/event/nea-board-of-directors-meeting/
END:VEVENT
BEGIN:VEVENT
DTSTART;TZID=America/Denver:20230929T080000
DTEND;TZID=America/Denver:20230929T170000
DTSTAMP:20240227T193435
CREATED:20230816T013832Z
LAST-MODIFIED:20230816T013832Z
UID:10000079-1695974400-1696006800@coloradoea.org
SUMMARY:CEA Board of Directors Meeting
DESCRIPTION:CEA’s Board of Directors are elected by majority vote by members of their UniServ or by majority vote by delegates at the Delegate Assembly through open nomination and secret ballot. They may serve up to three consecutive terms\, each term being two years. \n 
URL:https://coloradoea.org/event/cea-board-of-directors-meeting/
END:VEVENT
BEGIN:VEVENT
DTSTART;TZID=America/Denver:20230930T080000
DTEND;TZID=America/Denver:20230930T150000
DTSTAMP:20240227T193435
CREATED:20230816T015112Z
LAST-MODIFIED:20230816T015112Z
UID:10000084-1696060800-1696086000@coloradoea.org
SUMMARY:Fall CEA All Leader Summit
DESCRIPTION:This event will bring together the CEA Board of Directors\, Local Presidents\, Unit Chairs\, the CEA Fund\, and CEA Staff to learn\, unify\, and better understand our roles as leaders and our shared work for the year ahead. The day will include various learning sessions to enhance leadership skills\, share updates and information and unify and grow Stronger Together.
URL:https://coloradoea.org/event/fall-cea-all-leader-summit/
END:VEVENT
END:VCALENDAR