BEGIN:VCALENDAR
VERSION:2.0
PRODID:-//CEA - ECPv6.3.1//NONSGML v1.0//EN
CALSCALE:GREGORIAN
METHOD:PUBLISH
X-ORIGINAL-URL:https://coloradoea.org
X-WR-CALDESC:Events for CEA
REFRESH-INTERVAL;VALUE=DURATION:PT1H
X-Robots-Tag:noindex
X-PUBLISHED-TTL:PT1H
BEGIN:VTIMEZONE
TZID:America/Denver
BEGIN:DAYLIGHT
TZOFFSETFROM:-0700
TZOFFSETTO:-0600
TZNAME:MDT
DTSTART:20240310T090000
END:DAYLIGHT
BEGIN:STANDARD
TZOFFSETFROM:-0600
TZOFFSETTO:-0700
TZNAME:MST
DTSTART:20241103T080000
END:STANDARD
END:VTIMEZONE
BEGIN:VEVENT
DTSTART;TZID=America/Denver:20240503T080000
DTEND;TZID=America/Denver:20240504T170000
DTSTAMP:20240227T172450
CREATED:20230817T235132Z
LAST-MODIFIED:20240222T013539Z
UID:10000093-1714723200-1714842000@coloradoea.org
SUMMARY:NEA Board of Directors Meeting
DESCRIPTION:As a top decision-making body\, our Board of Directors includes at least one director from each state affiliate\, as well as representatives from retired members\, aspiring educators\, at-large representatives of ethnic minorities\, administrators\, teachers in higher ed\, and active members employed in ESP positions.
URL:https://coloradoea.org/event/nea-board-of-directors-meeting-5/
CATEGORIES:NEA
END:VEVENT
END:VCALENDAR