BEGIN:VCALENDAR
VERSION:2.0
PRODID:-//CEA - ECPv6.3.1//NONSGML v1.0//EN
CALSCALE:GREGORIAN
METHOD:PUBLISH
X-WR-CALNAME:CEA
X-ORIGINAL-URL:https://coloradoea.org
X-WR-CALDESC:Events for CEA
REFRESH-INTERVAL;VALUE=DURATION:PT1H
X-Robots-Tag:noindex
X-PUBLISHED-TTL:PT1H
BEGIN:VTIMEZONE
TZID:America/Denver
BEGIN:DAYLIGHT
TZOFFSETFROM:-0700
TZOFFSETTO:-0600
TZNAME:MDT
DTSTART:20240310T090000
END:DAYLIGHT
BEGIN:STANDARD
TZOFFSETFROM:-0600
TZOFFSETTO:-0700
TZNAME:MST
DTSTART:20241103T080000
END:STANDARD
END:VTIMEZONE
BEGIN:VEVENT
DTSTART;TZID=America/Denver:20240629T080000
DTEND;TZID=America/Denver:20240702T170000
DTSTAMP:20240227T193440
CREATED:20230818T001117Z
LAST-MODIFIED:20240222T013521Z
UID:10000099-1719648000-1719939600@coloradoea.org
SUMMARY:NEA Aspiring Educators Conference
DESCRIPTION:The NEA Aspiring Educators Program (AE) is the leading voice for the next generation of educators. The mission of the NEA’s Aspiring Educators Program is to advocate for education professionals and to unite its members and the nation in fulfilling the promise of public education. Its mission is to also prepare every student to succeed in a diverse and interdependent world. \nClick here for registration information.
URL:https://coloradoea.org/event/nea-aspiring-educators-conference/
CATEGORIES:NEA
ATTACH;FMTTYPE=image/png:https://coloradoea.org/wp-content/uploads/2023/08/ASPIRE-STICKER.png
END:VEVENT
BEGIN:VEVENT
DTSTART;TZID=America/Denver:20240701T080000
DTEND;TZID=America/Denver:20240701T170000
DTSTAMP:20240227T193440
CREATED:20230817T235159Z
LAST-MODIFIED:20240222T013512Z
UID:10000094-1719820800-1719853200@coloradoea.org
SUMMARY:NEA Board of Directors Meeting
DESCRIPTION:As a top decision-making body\, our Board of Directors includes at least one director from each state affiliate\, as well as representatives from retired members\, aspiring educators\, at-large representatives of ethnic minorities\, administrators\, teachers in higher ed\, and active members employed in ESP positions.
URL:https://coloradoea.org/event/nea-board-of-directors-meeting-6/
CATEGORIES:NEA
END:VEVENT
BEGIN:VEVENT
DTSTART;TZID=America/Denver:20240701T080000
DTEND;TZID=America/Denver:20240702T170000
DTSTAMP:20240227T193440
CREATED:20230818T001619Z
LAST-MODIFIED:20240222T013505Z
UID:10000100-1719820800-1719939600@coloradoea.org
SUMMARY:Conference on Racial & Social Justice
DESCRIPTION:The Conference on Racial and Social Justice provides a unique space for educators\, students\, parents and families\, organizers\, community members and leaders to unite for the advancement of Justice in Education. \nClick here to read about the 2023 Conference on Racial and Social Justice. \n 
URL:https://coloradoea.org/event/conference-on-racial-social-justice/
CATEGORIES:NEA
END:VEVENT
END:VCALENDAR